BEGIN:VCALENDAR
VERSION:2.0
PRODID:-//time.you/holidays//NONSGML v1.0//EN
BEGIN:VEVENT
UID:8720abf2-6625-4f94-886e-7b81253f7093
DTSTAMP:20260420T195214Z
DTSTART;VALUE=DATE:20260811
SUMMARY:Carnival Tuesday (Grenada)
END:VEVENT
END:VCALENDAR