BEGIN:VCALENDAR
VERSION:2.0
PRODID:-//time.you/holidays//NONSGML v1.0//EN
BEGIN:VEVENT
UID:60a7afff-66ff-433b-9cd0-e5a10768d5fe
DTSTAMP:20260420T024149Z
DTSTART;VALUE=DATE:20260604
SUMMARY:Corpus Christi (Grenada)
END:VEVENT
END:VCALENDAR