BEGIN:VCALENDAR
VERSION:2.0
PRODID:-//time.you/holidays//NONSGML v1.0//EN
BEGIN:VEVENT
UID:635ae140-e02f-48f8-a624-6fbccfae73a3
DTSTAMP:20260420T234212Z
DTSTART;VALUE=DATE:20260406
SUMMARY:Easter Monday (Grenada)
END:VEVENT
END:VCALENDAR