BEGIN:VCALENDAR
VERSION:2.0
PRODID:-//time.you/holidays//NONSGML v1.0//EN
BEGIN:VEVENT
UID:1b11c2a8-f8a9-40ab-8e8d-fb745d34595b
DTSTAMP:20260423T162610Z
DTSTART;VALUE=DATE:20260403
SUMMARY:Good Friday (Grenada)
END:VEVENT
END:VCALENDAR