BEGIN:VCALENDAR
VERSION:2.0
PRODID:-//time.you/holidays//NONSGML v1.0//EN
BEGIN:VEVENT
UID:f8cd5245-0403-4429-ae61-c5f183d5e6cd
DTSTAMP:20260424T173617Z
DTSTART;VALUE=DATE:20270208
SUMMARY:Independence Day (observed) (Grenada)
END:VEVENT
END:VCALENDAR