BEGIN:VCALENDAR
VERSION:2.0
PRODID:-//time.you/holidays//NONSGML v1.0//EN
BEGIN:VEVENT
UID:b9b99d6c-cbe0-46d1-b8e5-2327089f8f63
DTSTAMP:20260421T143654Z
DTSTART;VALUE=DATE:20311020
SUMMARY:National Heroes' Day (observed) (Grenada)
END:VEVENT
END:VCALENDAR