BEGIN:VCALENDAR
VERSION:2.0
PRODID:-//time.you/holidays//NONSGML v1.0//EN
BEGIN:VEVENT
UID:b3cbe988-783d-49cf-8b12-22eefd894743
DTSTAMP:20260420T175413Z
DTSTART;VALUE=DATE:20261025
SUMMARY:Thanksgiving Day (Grenada)
END:VEVENT
END:VCALENDAR