BEGIN:VCALENDAR
VERSION:2.0
PRODID:-//time.you/holidays//NONSGML v1.0//EN
BEGIN:VEVENT
UID:01b5785a-7b69-4aeb-9dc5-7185af359a42
DTSTAMP:20260420T015439Z
DTSTART;VALUE=DATE:20260527
SUMMARY:Abolition of Slavery (Guadeloupe)
END:VEVENT
END:VCALENDAR