BEGIN:VCALENDAR
VERSION:2.0
PRODID:-//time.you/holidays//NONSGML v1.0//EN
BEGIN:VEVENT
UID:b1eb2c36-7eeb-40cf-864a-63a687654eec
DTSTAMP:20260422T114650Z
DTSTART;VALUE=DATE:20261111
SUMMARY:Armistice Day (Guadeloupe)
END:VEVENT
END:VCALENDAR