BEGIN:VCALENDAR
VERSION:2.0
PRODID:-//time.you/holidays//NONSGML v1.0//EN
BEGIN:VEVENT
UID:dda09175-8615-4f1a-b6e9-ecc23be8b1b5
DTSTAMP:20260420T104715Z
DTSTART;VALUE=DATE:20260514
SUMMARY:Ascension Day (Guadeloupe)
END:VEVENT
END:VCALENDAR