BEGIN:VCALENDAR
VERSION:2.0
PRODID:-//time.you/holidays//NONSGML v1.0//EN
BEGIN:VEVENT
UID:c541f4cf-54e4-4be0-ad96-25f5f52a97e2
DTSTAMP:20260420T124635Z
DTSTART;VALUE=DATE:20260815
SUMMARY:Assumption Day (Guadeloupe)
END:VEVENT
END:VCALENDAR