BEGIN:VCALENDAR
VERSION:2.0
PRODID:-//time.you/holidays//NONSGML v1.0//EN
BEGIN:VEVENT
UID:263579b3-dbef-4e1e-a027-491fa0a3f5eb
DTSTAMP:20260420T013910Z
DTSTART;VALUE=DATE:20260501
SUMMARY:Labor Day (Guadeloupe)
END:VEVENT
END:VCALENDAR