BEGIN:VCALENDAR
VERSION:2.0
PRODID:-//time.you/holidays//NONSGML v1.0//EN
BEGIN:VEVENT
UID:992b0d98-44d7-4323-b032-068eed09cbea
DTSTAMP:20260422T042745Z
DTSTART;VALUE=DATE:20260721
SUMMARY:Victor Schoelcher Day (Guadeloupe)
END:VEVENT
END:VCALENDAR