BEGIN:VCALENDAR
VERSION:2.0
PRODID:-//time.you/holidays//NONSGML v1.0//EN
BEGIN:VEVENT
UID:4c449759-b6b9-4cdb-8009-e9615f1b679c
DTSTAMP:20260421T183730Z
DTSTART;VALUE=DATE:20260508
SUMMARY:Victory Day (Guadeloupe)
END:VEVENT
END:VCALENDAR