BEGIN:VCALENDAR
VERSION:2.0
PRODID:-//time.you/holidays//NONSGML v1.0//EN
BEGIN:VEVENT
UID:8846bc48-d9e5-49b5-9a54-233be1519247
DTSTAMP:20260421T221722Z
DTSTART;VALUE=DATE:20260525
SUMMARY:Whit Monday (Guadeloupe)
END:VEVENT
END:VCALENDAR