BEGIN:VCALENDAR
VERSION:2.0
PRODID:-//time.you/holidays//NONSGML v1.0//EN
BEGIN:VEVENT
UID:0042e4f9-2755-4d82-a1de-1d821594d99a
DTSTAMP:20260420T190432Z
DTSTART;VALUE=DATE:20260403
SUMMARY:Good Friday (Guam)
END:VEVENT
END:VCALENDAR