BEGIN:VCALENDAR
VERSION:2.0
PRODID:-//time.you/holidays//NONSGML v1.0//EN
BEGIN:VEVENT
UID:721804d3-7aa6-403d-b5ed-8d130892b61a
DTSTAMP:20260420T103109Z
DTSTART;VALUE=DATE:20260704
SUMMARY:Independence Day (Guam)
END:VEVENT
END:VCALENDAR