BEGIN:VCALENDAR
VERSION:2.0
PRODID:-//time.you/holidays//NONSGML v1.0//EN
BEGIN:VEVENT
UID:06ab2224-d787-4237-97bf-55de44f4eb45
DTSTAMP:20260420T013310Z
DTSTART;VALUE=DATE:20260907
SUMMARY:Labor Day (Guam)
END:VEVENT
END:VCALENDAR