BEGIN:VCALENDAR
VERSION:2.0
PRODID:-//time.you/holidays//NONSGML v1.0//EN
BEGIN:VEVENT
UID:5832e36f-8bd4-4dbd-a8ee-6bfd6dc6860e
DTSTAMP:20260423T215750Z
DTSTART;VALUE=DATE:20260101
SUMMARY:New Year's Day (Guam)
END:VEVENT
END:VCALENDAR