BEGIN:VCALENDAR
VERSION:2.0
PRODID:-//time.you/holidays//NONSGML v1.0//EN
BEGIN:VEVENT
UID:ad076b43-0d78-413e-a665-a0eb285f4dc0
DTSTAMP:20260423T122330Z
DTSTART;VALUE=DATE:20260815
SUMMARY:Assumption Day (Guatemala)
END:VEVENT
END:VCALENDAR