BEGIN:VCALENDAR
VERSION:2.0
PRODID:-//time.you/holidays//NONSGML v1.0//EN
BEGIN:VEVENT
UID:3a77abc7-0aa3-461b-9d25-2c3c12743a2b
DTSTAMP:20260420T232443Z
DTSTART;VALUE=DATE:20260403
SUMMARY:Good Friday (Guatemala)
END:VEVENT
END:VCALENDAR