BEGIN:VCALENDAR
VERSION:2.0
PRODID:-//time.you/holidays//NONSGML v1.0//EN
BEGIN:VEVENT
UID:93a96d0a-04f1-43ea-b3d2-5f36d2eb02f9
DTSTAMP:20260422T030123Z
DTSTART;VALUE=DATE:20260101
SUMMARY:New Year's Day (Guatemala)
END:VEVENT
END:VCALENDAR