BEGIN:VCALENDAR
VERSION:2.0
PRODID:-//time.you/holidays//NONSGML v1.0//EN
BEGIN:VEVENT
UID:61ead315-6c6b-43b3-b95d-4e51bd4a69ce
DTSTAMP:20260423T222538Z
DTSTART;VALUE=DATE:20260406
SUMMARY:Easter Monday (Guernsey)
END:VEVENT
END:VCALENDAR