BEGIN:VCALENDAR
VERSION:2.0
PRODID:-//time.you/holidays//NONSGML v1.0//EN
BEGIN:VEVENT
UID:68a4c496-2719-4213-ba55-d7223784e2de
DTSTAMP:20260421T211537Z
DTSTART;VALUE=DATE:20230508
SUMMARY:Extra Public Holiday for the Coronation of King Charles III (Guernsey)
END:VEVENT
END:VCALENDAR