BEGIN:VCALENDAR
VERSION:2.0
PRODID:-//time.you/holidays//NONSGML v1.0//EN
BEGIN:VEVENT
UID:4a3d884d-f401-4a41-9fb0-40f6d117e9a9
DTSTAMP:20260423T230448Z
DTSTART;VALUE=DATE:20260101
SUMMARY:New Year's Day (Guernsey)
END:VEVENT
END:VCALENDAR