BEGIN:VCALENDAR
VERSION:2.0
PRODID:-//time.you/holidays//NONSGML v1.0//EN
BEGIN:VEVENT
UID:3833973e-f700-4f33-8bf8-dcd5982cf88f
DTSTAMP:20260422T064130Z
DTSTART;VALUE=DATE:20260525
SUMMARY:Spring Bank Holiday (Guernsey)
END:VEVENT
END:VCALENDAR