BEGIN:VCALENDAR
VERSION:2.0
PRODID:-//time.you/holidays//NONSGML v1.0//EN
BEGIN:VEVENT
UID:cc1aba33-e27f-4499-9383-7cb5179fa228
DTSTAMP:20260421T224047Z
DTSTART;VALUE=DATE:20220919
SUMMARY:State Funeral of Queen Elizabeth II (Guernsey)
END:VEVENT
END:VCALENDAR