BEGIN:VCALENDAR
VERSION:2.0
PRODID:-//time.you/holidays//NONSGML v1.0//EN
BEGIN:VEVENT
UID:1ad73798-8246-484d-8b35-e1afa0533801
DTSTAMP:20260420T064817Z
DTSTART;VALUE=DATE:20240716
SUMMARY:The visit of His Majesty King Charles III and Queen Camilla (Guernsey)
END:VEVENT
END:VCALENDAR