BEGIN:VCALENDAR
VERSION:2.0
PRODID:-//time.you/holidays//NONSGML v1.0//EN
BEGIN:VEVENT
UID:919dd381-7db1-4b9d-b7cd-412476ccfc24
DTSTAMP:20260422T064428Z
DTSTART;VALUE=DATE:20260405
SUMMARY:Easter Sunday (Guinea-Bissau)
END:VEVENT
END:VCALENDAR