BEGIN:VCALENDAR
VERSION:2.0
PRODID:-//time.you/holidays//NONSGML v1.0//EN
BEGIN:VEVENT
UID:6d584d63-2a70-4b28-b747-4032068b517b
DTSTAMP:20260422T053908Z
DTSTART;VALUE=DATE:20260320
SUMMARY:Eid al-Fitr (estimated) (Guinea-Bissau)
END:VEVENT
END:VCALENDAR