BEGIN:VCALENDAR
VERSION:2.0
PRODID:-//time.you/holidays//NONSGML v1.0//EN
BEGIN:VEVENT
UID:2c286ff8-abf6-41d8-8d15-fd5869e902e8
DTSTAMP:20260421T155841Z
DTSTART;VALUE=DATE:20250330
SUMMARY:Eid al-Fitr (Guinea-Bissau)
END:VEVENT
END:VCALENDAR