BEGIN:VCALENDAR
VERSION:2.0
PRODID:-//time.you/holidays//NONSGML v1.0//EN
BEGIN:VEVENT
UID:ef2e219e-da2b-47de-ad83-13293495eec3
DTSTAMP:20260423T170809Z
DTSTART;VALUE=DATE:20211101
SUMMARY:All Saints' Day (Guinea)
END:VEVENT
END:VCALENDAR