BEGIN:VCALENDAR
VERSION:2.0
PRODID:-//time.you/holidays//NONSGML v1.0//EN
BEGIN:VEVENT
UID:c0e1e0aa-eb2b-45c6-a591-879bb850cf20
DTSTAMP:20260423T091938Z
DTSTART;VALUE=DATE:20260815
SUMMARY:Assumption Day (Guinea)
END:VEVENT
END:VCALENDAR