BEGIN:VCALENDAR
VERSION:2.0
PRODID:-//time.you/holidays//NONSGML v1.0//EN
BEGIN:VEVENT
UID:c4561a76-0c44-457b-83e5-64379b920489
DTSTAMP:20260421T235641Z
DTSTART;VALUE=DATE:20260825
SUMMARY:Day after Prophet's Birthday (estimated) (Guinea)
END:VEVENT
END:VCALENDAR