BEGIN:VCALENDAR
VERSION:2.0
PRODID:-//time.you/holidays//NONSGML v1.0//EN
BEGIN:VEVENT
UID:d7a61c9e-360d-4479-b833-8e2df3c118f3
DTSTAMP:20260422T065406Z
DTSTART;VALUE=DATE:20260527
SUMMARY:Eid al-Adha (estimated) (Guinea)
END:VEVENT
END:VCALENDAR