BEGIN:VCALENDAR
VERSION:2.0
PRODID:-//time.you/holidays//NONSGML v1.0//EN
BEGIN:VEVENT
UID:89bf61d6-cb26-43ab-b03c-0bacb8ce7404
DTSTAMP:20260420T101942Z
DTSTART;VALUE=DATE:20261002
SUMMARY:Independence Day (Guinea)
END:VEVENT
END:VCALENDAR