BEGIN:VCALENDAR
VERSION:2.0
PRODID:-//time.you/holidays//NONSGML v1.0//EN
BEGIN:VEVENT
UID:a6df704b-c234-4710-8e33-e6a17659a7fd
DTSTAMP:20260420T204549Z
DTSTART;VALUE=DATE:20260501
SUMMARY:Labor Day (Guinea)
END:VEVENT
END:VCALENDAR