BEGIN:VCALENDAR
VERSION:2.0
PRODID:-//time.you/holidays//NONSGML v1.0//EN
BEGIN:VEVENT
UID:de034a24-f572-49c3-b5a5-9602917b7407
DTSTAMP:20260419T234151Z
DTSTART;VALUE=DATE:20260101
SUMMARY:New Year's Day (Guinea)
END:VEVENT
END:VCALENDAR