BEGIN:VCALENDAR
VERSION:2.0
PRODID:-//time.you/holidays//NONSGML v1.0//EN
BEGIN:VEVENT
UID:8037702f-2b1a-45f8-aea0-e0ab38ad424c
DTSTAMP:20260421T033222Z
DTSTART;VALUE=DATE:20300506
SUMMARY:Arrival Day (observed) (Guyana)
END:VEVENT
END:VCALENDAR