BEGIN:VCALENDAR
VERSION:2.0
PRODID:-//time.you/holidays//NONSGML v1.0//EN
BEGIN:VEVENT
UID:1837fa75-fd20-4924-86f2-ef063a0d9118
DTSTAMP:20260421T190000Z
DTSTART;VALUE=DATE:20260706
SUMMARY:CARICOM Day (Guyana)
END:VEVENT
END:VCALENDAR