BEGIN:VCALENDAR
VERSION:2.0
PRODID:-//time.you/holidays//NONSGML v1.0//EN
BEGIN:VEVENT
UID:0a7bb2f5-6150-4777-889d-0efee4cb72e7
DTSTAMP:20260420T071512Z
DTSTART;VALUE=DATE:20261226
SUMMARY:Day after Christmas (Guyana)
END:VEVENT
END:VCALENDAR