BEGIN:VCALENDAR
VERSION:2.0
PRODID:-//time.you/holidays//NONSGML v1.0//EN
BEGIN:VEVENT
UID:43ee70b9-eb90-4a33-8eea-cc213966a70b
DTSTAMP:20260420T170556Z
DTSTART;VALUE=DATE:20260406
SUMMARY:Easter Monday (Guyana)
END:VEVENT
END:VCALENDAR