BEGIN:VCALENDAR
VERSION:2.0
PRODID:-//time.you/holidays//NONSGML v1.0//EN
BEGIN:VEVENT
UID:f1964100-eb40-456c-bc69-de08fc6e073b
DTSTAMP:20260424T000348Z
DTSTART;VALUE=DATE:20250607
SUMMARY:Eid al-Adha (Guyana)
END:VEVENT
END:VCALENDAR