BEGIN:VCALENDAR
VERSION:2.0
PRODID:-//time.you/holidays//NONSGML v1.0//EN
BEGIN:VEVENT
UID:5ea76894-80d7-427d-aa22-afb3325f1dc0
DTSTAMP:20260421T133441Z
DTSTART;VALUE=DATE:20270802
SUMMARY:Emancipation Day (observed) (Guyana)
END:VEVENT
END:VCALENDAR