BEGIN:VCALENDAR
VERSION:2.0
PRODID:-//time.you/holidays//NONSGML v1.0//EN
BEGIN:VEVENT
UID:60a49b40-72c1-4068-a672-694c93395e5d
DTSTAMP:20260423T163535Z
DTSTART;VALUE=DATE:20260801
SUMMARY:Emancipation Day (Guyana)
END:VEVENT
END:VCALENDAR