BEGIN:VCALENDAR
VERSION:2.0
PRODID:-//time.you/holidays//NONSGML v1.0//EN
BEGIN:VEVENT
UID:9c64cb0e-6875-412b-b24e-ff0db2ecb6ab
DTSTAMP:20260421T050453Z
DTSTART;VALUE=DATE:20260403
SUMMARY:Good Friday (Guyana)
END:VEVENT
END:VCALENDAR