BEGIN:VCALENDAR
VERSION:2.0
PRODID:-//time.you/holidays//NONSGML v1.0//EN
BEGIN:VEVENT
UID:56d42518-1afa-4a6a-bdfb-55a7c6025a6a
DTSTAMP:20260424T191741Z
DTSTART;VALUE=DATE:20310310
SUMMARY:Holi (observed) (Guyana)
END:VEVENT
END:VCALENDAR