BEGIN:VCALENDAR
VERSION:2.0
PRODID:-//time.you/holidays//NONSGML v1.0//EN
BEGIN:VEVENT
UID:a65b4a47-32f7-4d1f-ae6d-151601e30e73
DTSTAMP:20260421T164126Z
DTSTART;VALUE=DATE:20330502
SUMMARY:Labor Day (observed) (Guyana)
END:VEVENT
END:VCALENDAR