BEGIN:VCALENDAR
VERSION:2.0
PRODID:-//time.you/holidays//NONSGML v1.0//EN
BEGIN:VEVENT
UID:965f0add-793c-481a-a69f-9459d855d2a4
DTSTAMP:20260420T204650Z
DTSTART;VALUE=DATE:20260501
SUMMARY:Labor Day (Guyana)
END:VEVENT
END:VCALENDAR