BEGIN:VCALENDAR
VERSION:2.0
PRODID:-//time.you/holidays//NONSGML v1.0//EN
BEGIN:VEVENT
UID:3f51ba99-0991-4ddb-aff4-52116be4ef00
DTSTAMP:20260421T185705Z
DTSTART;VALUE=DATE:20260826
SUMMARY:Prophet's Birthday (estimated) (Guyana)
END:VEVENT
END:VCALENDAR